BEGIN:VCALENDAR
VERSION:2.0
CALSCALE:GREGORIAN
PRODID:adamgibbons/ics
METHOD:PUBLISH
X-PUBLISHED-TTL:PT1H
BEGIN:VEVENT
UID:2626@lapunta.org
SUMMARY:PRESIDIO PUBBLICO CONTRO IL PIANO OPERATIVO COMUNALE
DTSTAMP:20260421T082027Z
DTSTART:20230525T130000Z
DTEND:20230525T150000Z
DESCRIPTION:In attesa della definitiva approvazione consiliare del Piano Op
	erativo del\nComune di Firenze\, molte realtà e comitati cittadini si stan
	no muovendo per\niniziative pubbliche e per produrre osservazioni formali 
	come risposta critica\nal disegno urbanistico proposto dell'amministrazion
	e.\n\nCon il nuovo Piano Operativo e Strutturale si condensano l'indicazio
	ne generica\ne quella esecutiva della progettazione della città in un unic
	o processo\, dando\nquindi un enorme potere nelle mani dell'amministrazion
	e di turno: l'attuale\namministrazione demanda il futuro della città alle 
	multiutility\, alle\nconsorterie commerciali ed alle multinazionali e lobb
	y del turismo\, allineandosi\npienamente al contesto nazionale per cui il 
	territorio altro non è che merce di\nscambio per pareggiare il bilancio.\n
	\nLa città che si prospetta distrugge ogni residuo di spazio accessibile e
	d a\nmisura di persona in favore delle merci\, materiali o immateriali che
	 siano\,\nsfruttando i numerosi contesti emergenziali che ci circondano co
	me deterrente\,\nnonostante spesso la stessa amministrazione sia stata art
	efice di quelle\ncondizioni: il territorio fisico continua ad essere mero 
	strumento di profitto\neconomico per pochi nonostante le evidenti problema
	tiche cittadine (accesso alla\ncasa\, inquinamento\, mobilità e spazi vers
	i)\, poco importa se l'acquirente è\nl'edilizia speculativa o la grande di
	stribuzione.\n\nCi ritroviamo quindi il 25 maggio alle ore 15 in piazza Sa
	n Martino (ufficio\nurbanistica) per presentare collettivamente le osserva
	zioni e manifestare in\nmaniera netta il nostro dissenso verso l'ennesima 
	mossa dell'amministrazione in\ncui speculazione edilizia e cemento continu
	ano ad essere favorite senza\nriguardo\, perseverando in una pianificazion
	e del territorio scellerata che\nmantiene saldamente Firenze nel suo statu
	s poco felice di città vetrina.\n\nCon il Piano Operativo l'amministrazion
	e comunale rende esplicita e formale la\nsua visione della città come mini
	era a cielo aperto\, in netta contrapposizione\nad ogni approccio rivolto 
	allo spazio pubblico come bene comune\, ignorando i\ncittadini come punto 
	di riferimento della progettazione dello spazio e cercando\ndi sotterrare 
	ogni forma di autonomia ed indipendenza dalla macchina produttiva.\n\nInte
	ndiamo quindi con il presidio creare un occasione dove manifestare\ncollet
	tivamente l'opposizione all'idea di città che l'amministrazione comunale\n
	vuole imporre in generale\, ma anche un momento dove poter fare un assembl
	ea\npubblica e condividere quei processi dal basso che hanno portato alla 
	produzione\ndelle numerose osservazioni al piano operativo che verranno pr
	esentate: vediamo\nquindi questa iniziativa come una parte di quei percors
	i che portiamo avanti da\ntempo e per cui continueremo decisamente a farci
	 sentire anche in futuro con le\ndovute specificità cittadine\, ma accomun
	ati da un idea di città che sia libera\,\nverde\,  accessibile ed a misura
	 di chi realmente ci vive.\n\nContro la devastazione del territorio\nContr
	o la privatizzazione dei servizi e della città\nPer il diritto a casa\, se
	rvizi\, verde e spazi di socialità per tutte e tutti.
URL:https://lapunta.org/event/presidio-pubblico-contro-il-piano-operativo-c
	omunale
LOCATION:Piazza San Martino (davanti ufficio urbanistica) - piazza san mart
	ino
STATUS:CONFIRMED
CATEGORIES:Piano Operativo,assemblea aperta,città,firenze dal basso,osserva
	zioni
X-ALT-DESC;FMTTYPE=text/html:<p>In attesa della definitiva approvazione con
	siliare del Piano Operativo del Comune di Firenze, molte realtà e comitati
	 cittadini si stanno muovendo per iniziative pubbliche e per produrre osse
	rvazioni formali come risposta critica al disegno urbanistico proposto del
	l'amministrazione.<br><br>Con il nuovo Piano Operativo e Strutturale si co
	ndensano l'indicazione generica e quella esecutiva della progettazione del
	la città in un unico processo, dando quindi un enorme potere nelle mani de
	ll'amministrazione di turno: l'attuale amministrazione demanda il futuro d
	ella città alle multiutility, alle consorterie commerciali ed alle multina
	zionali e lobby del turismo, allineandosi pienamente al contesto nazionale
	 per cui il territorio altro non è che merce di scambio per pareggiare il 
	bilancio.<br><br>La città che si prospetta distrugge ogni residuo di spazi
	o accessibile ed a misura di persona in favore delle merci, materiali o im
	materiali che siano, sfruttando i numerosi contesti emergenziali che ci ci
	rcondano come deterrente, nonostante spesso la stessa amministrazione sia 
	stata artefice di quelle condizioni: il territorio fisico continua ad esse
	re mero strumento di profitto economico per pochi nonostante le evidenti p
	roblematiche cittadine (accesso alla casa, inquinamento, mobilità e spazi 
	versi), poco importa se l'acquirente è l'edilizia speculativa o la grande 
	distribuzione.<br><br>Ci ritroviamo quindi il 25 maggio alle ore 15 in pia
	zza San Martino (ufficio urbanistica) per presentare collettivamente le os
	servazioni e manifestare in maniera netta il nostro dissenso verso l'ennes
	ima mossa dell'amministrazione in cui speculazione edilizia e cemento cont
	inuano ad essere favorite senza riguardo, perseverando in una pianificazio
	ne del territorio scellerata che mantiene saldamente Firenze nel suo statu
	s poco felice di città vetrina.<br><br>Con il Piano Operativo l'amministra
	zione comunale rende esplicita e formale la sua visione della città come m
	iniera a cielo aperto, in netta contrapposizione ad ogni approccio rivolto
	 allo spazio pubblico come bene comune, ignorando i cittadini come punto d
	i riferimento della progettazione dello spazio e cercando di sotterrare og
	ni forma di autonomia ed indipendenza dalla macchina produttiva.<br><br>In
	tendiamo quindi con il presidio creare un occasione dove manifestare colle
	ttivamente l'opposizione all'idea di città che l'amministrazione comunale 
	vuole imporre in generale, ma anche un momento dove poter fare un assemble
	a pubblica e condividere quei processi dal basso che hanno portato alla pr
	oduzione delle numerose osservazioni al piano operativo che verranno prese
	ntate: vediamo quindi questa iniziativa come una parte di quei percorsi ch
	e portiamo avanti da tempo e per cui continueremo decisamente a farci sent
	ire anche in futuro con le dovute specificità cittadine, ma accomunati da 
	un idea di città che sia libera, verde, &nbsp;accessibile ed a misura di c
	hi realmente ci vive.<br><br>Contro&nbsp;la&nbsp;devastazione&nbsp;del&nbs
	p;territorio<br>Contro&nbsp;la&nbsp;privatizzazione&nbsp;dei&nbsp;servizi&
	nbsp;e&nbsp;della&nbsp;città<br>Per il diritto a casa, servizi, verde e sp
	azi di socialità per tutte e tutti.</p>
END:VEVENT
BEGIN:VEVENT
UID:1721@lapunta.org
SUMMARY:Assemblea di quartiere  Sodo-Castello
DTSTAMP:20260421T082027Z
DTSTART:20230220T200000Z
DTEND:20230220T223000Z
DESCRIPTION:Lunedì 20/02 h 21.00 Assemblea di quartiere\n\nUn incontro aper
	to tra gli abitanti della zona di Castello e del Sodo per fare\nil punto s
	ulle iniziative relative alla bonifica della ex-Cerdec e per capire\ninsie
	me come districarsi tra le implicazioni del Piano Operativo e Strutturale\
	ndel Comune di Firenze in adozione nei prossimi mesi.\n\nLa centralità del
	l’area ex-Cerdec rispetto ai problemi e alle necessità del\nnostro quartie
	re si è ragionevolmente imposta anche nelle assemblee degli ultimi\nmesi.\
	n\nDurante questi incontri ci siamo quindi potuti confrontare sulle possib
	ili\nnocività legate all’attuale stato di incompleta bonifica dell’area e 
	sullo\nsconsiderato interesse a cementificare degli attuali proprietari.\n
	\nParadossalmente\, quando la necessità sarebbe quantomeno quella di bonif
	icare e\ndisinquinare realmente l’area\, c’è il rischio concreto di una me
	ga speculazione\nedilizia con decine e decine di appartamenti in più nel c
	ontesto di un quartiere\nche sappiamo essere decisamente saturo e già scar
	no di servizi.\n\nLo scorso autunno il Comune di Firenze\, dopo anni di im
	mobilismo si è reso conto\ndella incompletezza di dati sulla bonifica dell
	’area e\, supportato dal parere\ntecnico di Arpat\, ha ufficialmente negat
	o l’approvazione all’analisi di\nrischio** proposta dal costruttore in qua
	nto incompleta obbligandolo a controlli\npiù stringenti sull’inquinamento 
	dell’area.\n\nSempre lo scorso autunno\, siamo riusciti a smuovere l’Arpat
	 richiedendo\nulteriori controlli nelle zone limitrofe all’area ex-Cerdec 
	tramite un esposto\nsupportato da analisi certificate private** fatte in u
	n pozzo privato\nimmediatamente a valle dello stabile in cui si evidenzia 
	la presenza di\ninquinanti difficilmente non riconducibili alle vecchie pr
	oduzioni della Cerdec.\n\nIl controllo non è stato ancora completato causa
	 alcune falde a secco\, ma ci\naspettiamo che sia concluso e di ricevere u
	n responso\, che non esiteremo a\ncondividere.\n\nAll’incontro intendiamo 
	anche riportare come abbiamo intenzione di muoverci\nrispetto al Consiglio
	 di Quartiere e alla prossima adozione del Piano Operativo\ne Strutturale 
	da parte del Comune di Firenze\, le cui tempistiche confermano ogni\nstere
	otipo sull’inefficacia e scarsa chiarezza della macchina burocratica (da 3
	\nanni in deroga\, rispetto ad una validità teorica di 5…).\n\nVogliamo co
	ntinuare a condividere il nostro percorso con tutte e tutti gli\nabitanti 
	della zona sicuramente con l’auspicio di ricevere critiche e\ncontributi\,
	 ma anche per individuare percorsi informali autorganizzati con cui\nla ci
	ttadinanza può farsi valere e tutelarsi collettivamente\, senza particolar
	i\ndeleghe.\n\nCi vediamo quindi Lunedì 20 Febbraio al Circolo di Castello
	 (via R.Giuliani 397)\n alle 21.\n\nIl quartiere è di chi lo vive !\n\nCsa
	 Next Emerson\n\n\n\n** i documenti citati sono presenti su www.soscastell
	o.noblogs.org\n[http://www.soscastello.noblogs.org]
URL:https://lapunta.org/event/assemblea-di-quartiere-sodo-castello
LOCATION:Circolo di Castello - via R. Giuliani\, 374\, Firenze
STATUS:CONFIRMED
CATEGORIES:Castello,Piano Operativo,Sodo,aree dismesse,assemblea,castello,c
	iclabile,inquinamento,quartiere,speculazione
X-ALT-DESC;FMTTYPE=text/html:<p><strong>Lunedì 20/02 h 21.00 Assemblea di q
	uartiere</strong></p><p>Un incontro aperto tra gli abitanti della zona di 
	Castello e del Sodo per fare il punto sulle iniziative relative alla bonif
	ica della ex-Cerdec e per capire insieme come districarsi tra le implicazi
	oni del Piano Operativo e Strutturale del Comune di Firenze in adozione ne
	i prossimi mesi.</p><p>La centralità dell’area ex-Cerdec rispetto ai probl
	emi e alle necessità del nostro quartiere si è ragionevolmente imposta anc
	he nelle assemblee degli ultimi mesi.</p><p>Durante questi incontri ci sia
	mo quindi potuti confrontare sulle possibili nocività legate all’attuale s
	tato di incompleta bonifica dell’area e sullo sconsiderato interesse a cem
	entificare degli attuali proprietari.</p><p>Paradossalmente, quando la nec
	essità sarebbe quantomeno quella di bonificare e disinquinare realmente l’
	area, c’è il rischio concreto di una mega speculazione edilizia con decine
	 e decine di appartamenti in più nel contesto di un quartiere che sappiamo
	 essere decisamente saturo e già scarno di servizi.</p><p>Lo scorso autunn
	o il Comune di Firenze, dopo anni di immobilismo si è reso conto della inc
	ompletezza di dati sulla bonifica dell’area e, supportato dal parere tecni
	co di Arpat, ha ufficialmente negato l’approvazione all’analisi di rischio
	** proposta dal costruttore in quanto incompleta obbligandolo a controlli 
	più stringenti sull’inquinamento dell’area.</p><p>Sempre lo scorso autunno
	, siamo riusciti a smuovere l’Arpat richiedendo ulteriori controlli nelle 
	zone limitrofe all’area ex-Cerdec tramite un esposto supportato da analisi
	 certificate private** fatte in un pozzo privato immediatamente a valle de
	llo stabile in cui si evidenzia la presenza di inquinanti difficilmente no
	n riconducibili alle vecchie produzioni della Cerdec.</p><p>Il controllo n
	on è stato ancora completato causa alcune falde a secco, ma ci aspettiamo 
	che sia concluso e di ricevere un responso, che non esiteremo a condivider
	e.</p><p>All’incontro intendiamo anche riportare come abbiamo intenzione d
	i muoverci rispetto al Consiglio di Quartiere e alla prossima adozione del
	 Piano Operativo e Strutturale da parte del Comune di Firenze, le cui temp
	istiche confermano ogni stereotipo sull’inefficacia e scarsa chiarezza del
	la macchina burocratica (da 3 anni in deroga, rispetto ad una validità teo
	rica di 5…).</p><p>Vogliamo continuare a condividere il nostro percorso co
	n tutte e tutti gli abitanti della zona sicuramente con l’auspicio di rice
	vere critiche e contributi, ma anche per individuare percorsi informali au
	torganizzati con cui la cittadinanza può farsi valere e tutelarsi colletti
	vamente, senza particolari deleghe.</p><p><strong>Ci vediamo quindi Lunedì
	 20 Febbraio al Circolo di Castello (via R.Giuliani 397) &nbsp;alle 21.</s
	trong></p><p><strong>Il quartiere è di chi lo vive !</strong></p><p>Csa Ne
	xt Emerson</p><p></p><p>** i documenti citati sono presenti su <a href="ht
	tp://www.soscastello.noblogs.org">www.soscastello.noblogs.org</a></p>
END:VEVENT
END:VCALENDAR
